Workbook

Sheet Tổng hợp
B1: TỔNG HỢP TỔ CÔNG NGHỆ SỐ CỘNG ĐỒNG
B2: Danh sách kiện toàn Tổ công nghệ số cộng đồng tại các thôn, bản, tổ dân phố • Tháng 10/2026
B4: SỐ XÃ, PHƯỜNG | D4: TỔNG SỐ TỔ CNSCĐ (THÔN, BẢN, TDP) | G4: TỔNG SỐ THÀNH VIÊN
B5: =COUNTA(C17:C182) -> 166 | D5: =E183 -> 1933 | G5: =F183 -> 12259
B8: PHÂN LOẠI
B9: Nội dung | D9: Số xã, phường | E9: Số tổ | F9: Số thành viên | G9: TB thành viên /tổ
B10: Thôn, bản, khu dân cư (mã "Thôn") | D10: – | E10: =COUNTIF('Danh sách'!$B$5:$B$2103,"Thôn") -> 1575 | F10: =SUMIF('Danh sách'!$B$5:$B$2103,"Thôn",'Danh sách'!$E$5:$E$2103) -> 9807 | G10: =IF(E10=0,0,F10/E10) -> 6.2266667
B11: Tổ dân phố (mã "TDP") | D11: – | E11: =COUNTIF('Danh sách'!$B$5:$B$2103,"TDP") -> 358 | F11: =SUMIF('Danh sách'!$B$5:$B$2103,"TDP",'Danh sách'!$E$5:$E$2103) -> 2452 | G11: =IF(E11=0,0,F11/E11) -> 6.849162
B12: Các xã | D12: =COUNTIF($D$17:$D$182,"Xã") -> 147 | E12: =SUMIF($D$17:$D$182,"Xã",$E$17:$E$182) -> 1575 | F12: =SUMIF($D$17:$D$182,"Xã",$F$17:$F$182) -> 9807 | G12: =IF(E12=0,0,F12/E12) -> 6.2266667
B13: Các phường | D13: =COUNTIF($D$17:$D$182,"Phường") -> 19 | E13: =SUMIF($D$17:$D$182,"Phường",$E$17:$E$182) -> 358 | F13: =SUMIF($D$17:$D$182,"Phường",$F$17:$F$182) -> 2452 | G13: =IF(E13=0,0,F13/E13) -> 6.849162
B14: Tổng cộng toàn tỉnh | D14: =COUNTA(C17:C182) -> 166 | E14: =E183 -> 1933 | F14: =F183 -> 12259 | G14: =IF(E14=0,0,F14/E14) -> 6.3419555
B15: CHI TIẾT THEO XÃ, PHƯỜNG
B16: STT | C16: Xã, phường | D16: Loại | E16: Số tổ | F16: Số thành viên | G16: TB thành viên /tổ
B17: 1 | C17: ='Danh sách'!A5 -> Phường Hạc Thành | D17: =IF(LEFT(C17,6)="Phường","Phường","Xã") -> Phường | E17: ='Danh sách'!D5 -> 65 | F17: ='Danh sách'!E5 -> 268 | G17: =IF(E17=0,0,F17/E17) -> 4.1230769
B18: 2 | C18: ='Danh sách'!A71 -> Phường Quảng Phú | D18: =IF(LEFT(C18,6)="Phường","Phường","Xã") -> Phường | E18: ='Danh sách'!D71 -> 23 | F18: ='Danh sách'!E71 -> 215 | G18: =IF(E18=0,0,F18/E18) -> 9.3478261
B19: 3 | C19: ='Danh sách'!A95 -> Phường Đông Quang | D19: =IF(LEFT(C19,6)="Phường","Phường","Xã") -> Phường | E19: ='Danh sách'!D95 -> 21 | F19: ='Danh sách'!E95 -> 147 | G19: =IF(E19=0,0,F19/E19) -> 7
B20: 4 | C20: ='Danh sách'!A117 -> Phường Đông Sơn | D20: =IF(LEFT(C20,6)="Phường","Phường","Xã") -> Phường | E20: ='Danh sách'!D117 -> 27 | F20: ='Danh sách'!E117 -> 301 | G20: =IF(E20=0,0,F20/E20) -> 11.148148
B21: 5 | C21: ='Danh sách'!A145 -> Phường Đông Tiến | D21: =IF(LEFT(C21,6)="Phường","Phường","Xã") -> Phường | E21: ='Danh sách'!D145 -> 25 | F21: ='Danh sách'!E145 -> 150 | G21: =IF(E21=0,0,F21/E21) -> 6
B22: 6 | C22: ='Danh sách'!A171 -> Phường Hàm Rồng | D22: =IF(LEFT(C22,6)="Phường","Phường","Xã") -> Phường | E22: ='Danh sách'!D171 -> 21 | F22: ='Danh sách'!E171 -> 110 | G22: =IF(E22=0,0,F22/E22) -> 5.2380952
B23: 7 | C23: ='Danh sách'!A193 -> Phường Nguyệt Viên | D23: =IF(LEFT(C23,6)="Phường","Phường","Xã") -> Phường | E23: ='Danh sách'!D193 -> 15 | F23: ='Danh sách'!E193 -> 75 | G23: =IF(E23=0,0,F23/E23) -> 5
B24: 8 | C24: ='Danh sách'!A209 -> Phường Sầm Sơn | D24: =IF(LEFT(C24,6)="Phường","Phường","Xã") -> Phường | E24: ='Danh sách'!D209 -> 28 | F24: ='Danh sách'!E209 -> 269 | G24: =IF(E24=0,0,F24/E24) -> 9.6071429
B25: 9 | C25: ='Danh sách'!A238 -> Phường Nam Sầm Sơn | D25: =IF(LEFT(C25,6)="Phường","Phường","Xã") -> Phường | E25: ='Danh sách'!D238 -> 11 | F25: ='Danh sách'!E238 -> 75 | G25: =IF(E25=0,0,F25/E25) -> 6.8181818
B26: 10 | C26: ='Danh sách'!A250 -> Phường Bỉm Sơn | D26: =IF(LEFT(C26,6)="Phường","Phường","Xã") -> Phường | E26: ='Danh sách'!D250 -> 20 | F26: ='Danh sách'!E250 -> 133 | G26: =IF(E26=0,0,F26/E26) -> 6.65
B27: 11 | C27: ='Danh sách'!A271 -> Phường Quang Trung | D27: =IF(LEFT(C27,6)="Phường","Phường","Xã") -> Phường | E27: ='Danh sách'!D271 -> 14 | F27: ='Danh sách'!E271 -> 72 | G27: =IF(E27=0,0,F27/E27) -> 5.1428571
B28: 12 | C28: ='Danh sách'!A286 -> Phường Ngọc Sơn | D28: =IF(LEFT(C28,6)="Phường","Phường","Xã") -> Phường | E28: ='Danh sách'!D286 -> 16 | F28: ='Danh sách'!E286 -> 134 | G28: =IF(E28=0,0,F28/E28) -> 8.375
B29: 13 | C29: ='Danh sách'!A303 -> Phường Tân Dân | D29: =IF(LEFT(C29,6)="Phường","Phường","Xã") -> Phường | E29: ='Danh sách'!D303 -> 9 | F29: ='Danh sách'!E303 -> 27 | G29: =IF(E29=0,0,F29/E29) -> 3
B30: 14 | C30: ='Danh sách'!A313 -> Phường Hải Lĩnh | D30: =IF(LEFT(C30,6)="Phường","Phường","Xã") -> Phường | E30: ='Danh sách'!D313 -> 8 | F30: ='Danh sách'!E313 -> 57 | G30: =IF(E30=0,0,F30/E30) -> 7.125
B31: 15 | C31: ='Danh sách'!A322 -> Phường Tĩnh Gia | D31: =IF(LEFT(C31,6)="Phường","Phường","Xã") -> Phường | E31: ='Danh sách'!D322 -> 21 | F31: ='Danh sách'!E322 -> 121 | G31: =IF(E31=0,0,F31/E31) -> 5.7619048
B32: 16 | C32: ='Danh sách'!A344 -> Phường Đào Duy Từ | D32: =IF(LEFT(C32,6)="Phường","Phường","Xã") -> Phường | E32: ='Danh sách'!D344 -> 8 | F32: ='Danh sách'!E344 -> 40 | G32: =IF(E32=0,0,F32/E32) -> 5
B33: 17 | C33: ='Danh sách'!A353 -> Phường Hải Bình | D33: =IF(LEFT(C33,6)="Phường","Phường","Xã") -> Phường | E33: ='Danh sách'!D353 -> 8 | F33: ='Danh sách'!E353 -> 79 | G33: =IF(E33=0,0,F33/E33) -> 9.875
B34: 18 | C34: ='Danh sách'!A362 -> Phường Trúc Lâm | D34: =IF(LEFT(C34,6)="Phường","Phường","Xã") -> Phường | E34: ='Danh sách'!D362 -> 9 | F34: ='Danh sách'!E362 -> 90 | G34: =IF(E34=0,0,F34/E34) -> 10
B35: 19 | C35: ='Danh sách'!A372 -> Phường Nghi Sơn | D35: =IF(LEFT(C35,6)="Phường","Phường","Xã") -> Phường | E35: ='Danh sách'!D372 -> 9 | F35: ='Danh sách'!E372 -> 89 | G35: =IF(E35=0,0,F35/E35) -> 9.8888889
B36: 20 | C36: ='Danh sách'!A382 -> Xã Các Sơn | D36: =IF(LEFT(C36,6)="Phường","Phường","Xã") -> Xã | E36: ='Danh sách'!D382 -> 8 | F36: ='Danh sách'!E382 -> 75 | G36: =IF(E36=0,0,F36/E36) -> 9.375
B37: 21 | C37: ='Danh sách'!A391 -> Xã Trường Lâm | D37: =IF(LEFT(C37,6)="Phường","Phường","Xã") -> Xã | E37: ='Danh sách'!D391 -> 8 | F37: ='Danh sách'!E391 -> 82 | G37: =IF(E37=0,0,F37/E37) -> 10.25
B38: 22 | C38: ='Danh sách'!A400 -> Xã Hà Trung | D38: =IF(LEFT(C38,6)="Phường","Phường","Xã") -> Xã | E38: ='Danh sách'!D400 -> 14 | F38: ='Danh sách'!E400 -> 98 | G38: =IF(E38=0,0,F38/E38) -> 7
B39: 23 | C39: ='Danh sách'!A415 -> Xã Tống Sơn | D39: =IF(LEFT(C39,6)="Phường","Phường","Xã") -> Xã | E39: ='Danh sách'!D415 -> 12 | F39: ='Danh sách'!E415 -> 63 | G39: =IF(E39=0,0,F39/E39) -> 5.25
B40: 24 | C40: ='Danh sách'!A428 -> Xã Hà Long | D40: =IF(LEFT(C40,6)="Phường","Phường","Xã") -> Xã | E40: ='Danh sách'!D428 -> 9 | F40: ='Danh sách'!E428 -> 31 | G40: =IF(E40=0,0,F40/E40) -> 3.4444444
B41: 25 | C41: ='Danh sách'!A438 -> Xã Hoạt Giang | D41: =IF(LEFT(C41,6)="Phường","Phường","Xã") -> Xã | E41: ='Danh sách'!D438 -> 9 | F41: ='Danh sách'!E438 -> 45 | G41: =IF(E41=0,0,F41/E41) -> 5
B42: 26 | C42: ='Danh sách'!A448 -> Xã Lĩnh Toại | D42: =IF(LEFT(C42,6)="Phường","Phường","Xã") -> Xã | E42: ='Danh sách'!D448 -> 14 | F42: ='Danh sách'!E448 -> 42 | G42: =IF(E42=0,0,F42/E42) -> 3
B43: 27 | C43: ='Danh sách'!A463 -> Xã Nga Sơn | D43: =IF(LEFT(C43,6)="Phường","Phường","Xã") -> Xã | E43: ='Danh sách'!D463 -> 21 | F43: ='Danh sách'!E463 -> 168 | G43: =IF(E43=0,0,F43/E43) -> 8
...

Sheet Danh sách
A1: DANH SÁCH TỔ TRƯỞNG TỔ CÔNG NGHỆ SỐ CỘNG ĐỒNG
A2: Tại các thôn, bản, tổ dân phố mới sau sắp xếp của 166 xã, phường • Tháng 10/2026
A3: TỔNG CỘNG TOÀN TỈNH | D3: =COUNT(A5:A2103) -> 1933 | E3: =SUMPRODUCT(ISNUMBER(A5:A2103)*1,E5:E2103) -> 12259 | F3: thành viên (tính theo số liệu đã có)
A4: STT | B4: Mã | C4: Tên thôn, bản, tổ dân phố | D4: Họ và tên Tổ trưởng Tổ CNSCĐ | E4: Tổng số thành viên/Tổ | F4: Ghi chú
A5: Phường Hạc Thành | D5: =COUNT(A6:A70) -> 65 | E5: =SUM(E6:E70) -> 268
A6: 1 | B6: TDP | C6: Tổ dân phố Đông Sơn 1 | D6: Nguyễn Trọng Hải | E6: 3
A7: 2 | B7: TDP | C7: Tổ dân phố Đông Phát 2 | D7: Phạm Văn Tài | E7: 6
A8: 3 | B8: TDP | C8: Tổ dân phố Đông Phát 1 | D8: Lê Bá Chiến | E8: 5
A9: 4 | B9: TDP | C9: Tổ dân phố Quảng Xá 3 | D9: Nguyễn Văn Hải | E9: 3
A10: 5 | B10: TDP | C10: Tổ dân phố Trần Phú | D10: Dương Văn Xu | E10: 6
A11: 6 | B11: TDP | C11: Tổ dân phố Tây Sơn 4 | D11: Lê Bá Long | E11: 4
A12: 7 | B12: TDP | C12: Tổ dân phố Ái Sơn | D12: Lê Chí Sơn | E12: 3
A13: 8 | B13: TDP | C13: Tổ dân phố Sơn Vạn | D13: Nguyễn Doãn Thủy | E13: 3
A14: 9 | B14: TDP | C14: Tổ dân phố Xuân Minh | D14: Lê Trọng Úy | E14: 5
A15: 10 | B15: TDP | C15: Tổ dân phố Đồng Lễ | D15: Đỗ Văn Dũng | E15: 4
A16: 11 | B16: TDP | C16: Tổ dân phố Lai Thành | D16: Lê Văn Thính | E16: 3
A17: 12 | B17: TDP | C17: Tổ dân phố Xuân Mai | D17: Trịnh Văn Trung | E17: 3
... A70: 65 | B70: TDP | C70: Tổ dân phố Phan Bội Châu | D70: Vũ Đình Hồng | E70: 6
A71: Phường Quảng Phú | D71: =COUNT(A72:A94) -> 23 | E71: =SUM(E72:E94) -> 215
A72: 66 | B72: TDP | C72: Tổ dân phố Thành Yên | D72: Lê Văn Toàn | E72: 10
A73: 67 | B73: TDP | C73: Tổ dân phố Hưng Phúc | D73: Lê Thanh Hải | E73: 10
A74: 68 | B74: TDP | C74: Tổ dân phố Hưng Thọ | D74: Lưu Đình Hiệp | E74: 10
A75: 69 | B75: TDP | C75: Tổ dân phố Hưng Long | D75: Nguyễn Hữu Tửu | E75: 9
A76: 70 | B76: TDP | C76: Tổ dân phố Phú Xuân | D76: Lê Bá Phong | E76: 10
A77: 71 | B77: TDP | C77: Tổ dân phố Phú Viên | D77: Nguyễn Khắc Tâm | E77: 9
A78: 72 | B78: TDP | C78: Tổ dân phố Phú Thành | D78: Nguyễn Thị Thu | E78: 10
A79: 73 | B79: TDP | C79: Tổ dân phố Phú Trung | D79: Lê Trí Huy | E79: 9
A80: 74 | B80: TDP | C80: Tổ dân phố Thành Mai | D80: Hà Văn Vui | E80: 8
A81: 75 | B81: TDP | C81: Tổ dân phố Thành Công | D81: Phạm Tất Thắng | E81: 8
A82: 76 | B82: TDP | C82: Tổ dân phố Quảng Thành | D82: Nguyễn Khắc Oanh | E82: 8
A83: 77 | B83: TDP | C83: Tổ dân phố Thành Khang | D83: Nguyễn Văn Tài | E83: 9
... A94: 88 | B94: TDP | C94: Tổ dân phố Tiến Thọ | D94: Nguyễn Khắc Tâm | E94: 11
A95: Phường Đông Quang | D95: =COUNT(A96:A116) -> 21 | E95: =SUM(E96:E116) -> 147
A96: 89 | B96: TDP | C96: Tổ dân phố Cao Sơn | D96: Lê Duy Khánh | E96: 5
A97: 90 | B97: TDP | C97: Tổ dân phố Phố Nhồi | D97: Lê Văn Tùng | E97: 7
A98: 91 | B98: TDP | C98: Tổ dân phố An Hoạch | D98: Trịnh Văn Quý | E98: 7
A99: 92 | B99: TDP | C99: Tổ dân phố Đông Hưng | D99: Nguyễn Như Tùng | E99: 7
A100: 93 | B100: TDP | C100: Tổ dân phố An Hưng | D100: Mai Văn Huy | E100: 7
A101: 94 | B101: TDP | C101: Tổ dân phố Quảng Thắng | D101: Đào Ngọc Phương | E101: 8
A102: 95 | B102: TDP | C102: Tổ dân phố Vệ Yên | D102: Lê Thị Diệu Linh | E102: 7
...

Sheet Ghi chú rà soát
A1: GHI CHÚ RÀ SOÁT DỮ LIỆU
A2: Những điểm cần bổ sung, xác nhận và những chỉnh sửa đã thực hiện khi trình bày lại file
A4: STT | B4: Nhóm | C4: Xã, phường | D4: Thôn, bản, TDP | E4: Nội dung | F4: Vị trí
A5: 1 | B5: Cần bổ sung | C5: Xã Triệu Lộc | D5: Thôn Phú Điền | E5: Thiếu họ tên Tổ trưởng và số thành viên. | F5: Dòng 552
A6: 2 | B6: Cần bổ sung | C6: Xã Công Chính | D6: Thôn Đạo Đức | E6: Có Tổ trưởng (Lê Văn Vương) nhưng thiếu số thành viên. | F6: Dòng 940
A7: 3 | B7: Cần bổ sung | C7: Xã Công Chính | D7: Thôn Lộc Tuy | E7: Có Tổ trưởng (Nguyễn Văn Tĩnh) nhưng thiếu số thành viên. | F7: Dòng 941
A8: 4 | B8: Cần bổ sung | C8: Xã Công Chính | D8: Thôn Phú Sơn | E8: Có Tổ trưởng (Phạm Văn Cư) nhưng thiếu số thành viên. | F8: Dòng 942
A9: 5 | B9: Cần bổ sung | C9: Xã Công Chính | D9: Thôn Phú Thành | E9: Có Tổ trưởng (Lê Huy Hoàng) nhưng thiếu số thành viên. | F9: Dòng 943
A10: 6 | B10: Cần bổ sung | C10: Xã Công Chính | D10: Thôn Tân Kỳ | E10: Có Tổ trưởng (Trần Ngọc Hà) nhưng thiếu số thành viên. | F10: Dòng 944
A11: 7 | B11: Cần bổ sung | C11: Xã Công Chính | D11: Thôn Tân Luật | E11: Có Tổ trưởng (Hoàng Văn Thiềm) nhưng thiếu số thành viên. | F11: Dòng 945
A12: 8 | B12: Cần bổ sung | C12: Xã Công Chính | D12: Thôn Tam Hòa | E12: Có Tổ trưởng (Nguyễn Quốc Thoại) nhưng thiếu số thành viên. | F12: Dòng 946
A13: 9 | B13: Cần bổ sung | C13: Xã Công Chính | D13: Thôn Thái Yên | E13: Có Tổ trưởng (Nguyễn Chí Thanh) nhưng thiếu số thành viên. | F13: Dòng 947
A14: 10 | B14: Cần bổ sung | C14: Xã Công Chính | D14: Thôn Yên Nẫm | E14: Có Tổ trưởng (Lương Thị Loan) nhưng thiếu số thành viên. | F14: Dòng 948
A15: 11 | B15: Cần bổ sung | C15: Xã Công Chính | D15: Thôn Trung Tâm | E15: Có Tổ trưởng (Bùi Thị Lý) nhưng thiếu số thành viên. | F15: Dòng 949
A16: 12 | B16: Cần bổ sung | C16: Xã Công Chính | D16: Thôn Yên Bình | E16: Có Tổ trưởng (Đinh Xuân Dùng) nhưng thiếu số thành viên. | F16: Dòng 950
... A34: 30 | B34: Đã chỉnh | C34: Xã Cẩm Thạch | D34: Thôn Thạch Tiến | E34: Tên gốc "ThônThạch Tiến" bị dính chữ – đã tách thành "Thôn Thạch Tiến". | F34: Dòng 1787
A35: 31 | B35: Đã chỉnh | C35: (toàn file) | E35: Đánh lại STT liên tục 1–1.933 cho các thôn, bản, tổ dân phố (bỏ qua dòng tên xã, phường); xóa khoảng trắng thừa; sửa lỗi chính tả tiêu đề ("său" → "sau"); xóa 3 sheet trống.
