Workbook

Sheet Tổng hợp
B1: TỔNG HỢP TỔ CÔNG NGHỆ SỐ CỘNG ĐỒNG
B2: Danh sách kiện toàn Tổ công nghệ số cộng đồng tại các thôn, bản, tổ dân phố • Tháng 10/2026
B4: SỐ XÃ, PHƯỜNG | D4: TỔNG SỐ TỔ CNSCĐ (THÔN, BẢN, TDP) | G4: TỔNG SỐ THÀNH VIÊN
B5: =COUNTA(C17:C182) -> 166 | D5: =E183 -> 1933 | G5: =F183 -> 12259
B8: PHÂN LOẠI
B9: Nội dung | D9: Số xã, phường | E9: Số tổ | F9: Số thành viên | G9: TB thành viên /tổ
B10: Thôn, bản, khu dân cư (mã "Thôn") | D10: – | E10: =COUNTIF('Danh sách'!$B$5:$B$2103,"Thôn") -> 1575 | F10: =SUMIF('Danh sách'!$B$5:$B$2103,"Thôn",'Danh sách'!$E$5:$E$2103) -> 9807 | G10: =IF(E10=0,0,F10/E10) -> 6.2266667
B11: Tổ dân phố (mã "TDP") | D11: – | E11: =COUNTIF('Danh sách'!$B$5:$B$2103,"TDP") -> 358 | F11: =SUMIF('Danh sách'!$B$5:$B$2103,"TDP",'Danh sách'!$E$5:$E$2103) -> 2452 | G11: =IF(E11=0,0,F11/E11) -> 6.849162
B12: Các xã | D12: =COUNTIF($D$17:$D$182,"Xã") -> 147 | E12: =SUMIF($D$17:$D$182,"Xã",$E$17:$E$182) -> 1575 | F12: =SUMIF($D$17:$D$182,"Xã",$F$17:$F$182) -> 9807 | G12: =IF(E12=0,0,F12/E12) -> 6.2266667
B13: Các phường | D13: =COUNTIF($D$17:$D$182,"Phường") -> 19 | E13: =SUMIF($D$17:$D$182,"Phường",$E$17:$E$182) -> 358 | F13: =SUMIF($D$17:$D$182,"Phường",$F$17:$F$182) -> 2452 | G13: =IF(E13=0,0,F13/E13) -> 6.849162
B14: Tổng cộng toàn tỉnh | D14: =COUNTA(C17:C182) -> 166 | E14: =E183 -> 1933 | F14: =F183 -> 12259 | G14: =IF(E14=0,0,F14/E14) -> 6.3419555
B15: CHI TIẾT THEO XÃ, PHƯỜNG
B16: STT | C16: Xã, phường | D16: Loại | E16: Số tổ | F16: Số thành viên | G16: TB thành viên /tổ
B17: 1 | C17: ='Danh sách'!A5 -> Phường Hạc Thành | D17: =IF(LEFT(C17,6)="Phường","Phường","Xã") -> Phường | E17: ='Danh sách'!D5 -> 65 | F17: ='Danh sách'!E5 -> 268 | G17: =IF(E17=0,0,F17/E17) -> 4.1230769
B18: 2 | C18: ='Danh sách'!A71 -> Phường Quảng Phú | D18: =IF(LEFT(C18,6)="Phường","Phường","Xã") -> Phường | E18: ='Danh sách'!D71 -> 23 | F18: ='Danh sách'!E71 -> 215 | G18: =IF(E18=0,0,F18/E18) -> 9.3478261
B19: 3 | C19: ='Danh sách'!A95 -> Phường Đông Quang | D19: =IF(LEFT(C19,6)="Phường","Phường","Xã") -> Phường | E19: ='Danh sách'!D95 -> 21 | F19: ='Danh sách'!E95 -> 147 | G19: =IF(E19=0,0,F19/E19) -> 7
B20: 4 | C20: ='Danh sách'!A117 -> Phường Đông Sơn | D20: =IF(LEFT(C20,6)="Phường","Phường","Xã") -> Phường | E20: ='Danh sách'!D117 -> 27 | F20: ='Danh sách'!E117 -> 301 | G20: =IF(E20=0,0,F20/E20) -> 11.148148
B21: 5 | C21: ='Danh sách'!A145 -> Phường Đông Tiến | D21: =IF(LEFT(C21,6)="Phường","Phường","Xã") -> Phường | E21: ='Danh sách'!D145 -> 25 | F21: ='Danh sách'!E145 -> 150 | G21: =IF(E21=0,0,F21/E21) -> 6
B22: 6 | C22: ='Danh sách'!A171 -> Phường Hàm Rồng | D22: =IF(LEFT(C22,6)="Phường","Phường","Xã") -> Phường | E22: ='Danh sách'!D171 -> 21 | F22: ='Danh sách'!E171 -> 110 | G22: =IF(E22=0,0,F22/E22) -> 5.2380952
B23: 7 | C23: ='Danh sách'!A193 -> Phường Nguyệt Viên | D23: =IF(LEFT(C23,6)="Phường","Phường","Xã") -> Phường | E23: ='Danh sách'!D193 -> 15 | F23: ='Danh sách'!E193 -> 75 | G23: =IF(E23=0,0,F23/E23) -> 5
B24: 8 | C24: ='Danh sách'!A209 -> Phường Sầm Sơn | D24: =IF(LEFT(C24,6)="Phường","Phường","Xã") -> Phường | E24: ='Danh sách'!D209 -> 28 | F24: ='Danh sách'!E209 -> 269 | G24: =IF(E24=0,0,F24/E24) -> 9.6071429
B25: 9 | C25: ='Danh sách'!A238 -> Phường Nam Sầm Sơn | D25: =IF(LEFT(C25,6)="Phường","Phường","Xã") -> Phường | E25: ='Danh sách'!D238 -> 11 | F25: ='Danh sách'!E238 -> 75 | G25: =IF(E25=0,0,F25/E25) -> 6.8181818
B26: 10 | C26: ='Danh sách'!A250 -> Phường Bỉm Sơn | D26: =IF(LEFT(C26,6)="Phường","Phường","Xã") -> Phường | E26: ='Danh sách'!D250 -> 20 | F26: ='Danh sách'!E250 -> 133 | G26: =IF(E26=0,0,F26/E26) -> 6.65
B27: 11 | C27: ='Danh sách'!A271 -> Phường Quang Trung | D27: =IF(LEFT(C27,6)="Phường","Phường","Xã") -> Phường | E27: ='Danh sách'!D271 -> 14 | F27: ='Danh sách'!E271 -> 72 | G27: =IF(E27=0,0,F27/E27) -> 5.1428571
B28: 12 | C28: ='Danh sách'!A286 -> Phường Ngọc Sơn | D28: =IF(LEFT(C28,6)="Phường","Phường","Xã") -> Phường | E28: ='Danh sách'!D286 -> 16 | F28: ='Danh sách'!E286 -> 134 | G28: =IF(E28=0,0,F28/E28) -> 8.375
B29: 13 | C29: ='Danh sách'!A303 -> Phường Tân Dân | D29: =IF(LEFT(C29,6)="Phường","Phường","Xã") -> Phường | E29: ='Danh sách'!D303 -> 9 | F29: ='Danh sách'!E303 -> 27 | G29: =IF(E29=0,0,F29/E29) -> 3
B30: 14 | C30: ='Danh sách'!A313 -> Phường Hải Lĩnh | D30: =IF(LEFT(C30,6)="Phường","Phường","Xã") -> Phường | E30: ='Danh sách'!D313 -> 8 | F30: ='Danh sách'!E313 -> 57 | G30: =IF(E30=0,0,F30/E30) -> 7.125
B31: 15 | C31: ='Danh sách'!A322 -> Phường Tĩnh Gia | D31: =IF(LEFT(C31,6)="Phường","Phường","Xã") -> Phường | E31: ='Danh sách'!D322 -> 21 | F31: ='Danh sách'!E322 -> 121 | G31: =IF(E31=0,0,F31/E31) -> 5.7619048
B32: 16 | C32: ='Danh sách'!A344 -> Phường Đào Duy Từ | D32: =IF(LEFT(C32,6)="Phường","Phường","Xã") -> Phường | E32: ='Danh sách'!D344 -> 8 | F32: ='Danh sách'!E344 -> 40 | G32: =IF(E32=0,0,F32/E32) -> 5
B33: 17 | C33: ='Danh sách'!A353 -> Phường Hải Bình | D33: =IF(LEFT(C33,6)="Phường","Phường","Xã") -> Phường | E33: ='Danh sách'!D353 -> 8 | F33: ='Danh sách'!E353 -> 79 | G33: =IF(E33=0,0,F33/E33) -> 9.875
B34: 18 | C34: ='Danh sách'!A362 -> Phường Trúc Lâm | D34: =IF(LEFT(C34,6)="Phường","Phường","Xã") -> Phường | E34: ='Danh sách'!D362 -> 9 | F34: ='Danh sách'!E362 -> 90 | G34: =IF(E34=0,0,F34/E34) -> 10
B35: 19 | C35: ='Danh sách'!A372 -> Phường Nghi Sơn | D35: =IF(LEFT(C35,6)="Phường","Phường","Xã") -> Phường | E35: ='Danh sách'!D372 -> 9 | F35: ='Danh sách'!E372 -> 89 | G35: =IF(E35=0,0,F35/E35) -> 9.8888889
B36: 20 | C36: ='Danh sách'!A382 -> Xã Các Sơn | D36: =IF(LEFT(C36,6)="Phường","Phường","Xã") -> Xã | E36: ='Danh sách'!D382 -> 8 | F36: ='Danh sách'!E382 -> 75 | G36: =IF(E36=0,0,F36/E36) -> 9.375
B37: 21 | C37: ='Danh sách'!A391 -> Xã Trường Lâm | D37: =IF(LEFT(C37,6)="Phường","Phường","Xã") -> Xã | E37: ='Danh sách'!D391 -> 8 | F37: ='Danh sách'!E391 -> 82 | G37: =IF(E37=0,0,F37/E37) -> 10.25
B38: 22 | C38: ='Danh sách'!A400 -> Xã Hà Trung | D38: =IF(LEFT(C38,6)="Phường","Phường","Xã") -> Xã | E38: ='Danh sách'!D400 -> 14 | F38: ='Danh sách'!E400 -> 98 | G38: =IF(E38=0,0,F38/E38) -> 7
B39: 23 | C39: ='Danh sách'!A415 -> Xã Tống Sơn | D39: =IF(LEFT(C39,6)="Phường","Phường","Xã") -> Xã | E39: ='Danh sách'!D415 -> 12 | F39: ='Danh sách'!E415 -> 63 | G39: =IF(E39=0,0,F39/E39) -> 5.25
B40: 24 | C40: ='Danh sách'!A428 -> Xã Hà Long | D40: =IF(LEFT(C40,6)="Phường","Phường","Xã") -> Xã | E40: ='Danh sách'!D428 -> 9 | F40: ='Danh sách'!E428 -> 31 | G40: =IF(E40=0,0,F40/E40) -> 3.4444444
B41: 25 | C41: ='Danh sách'!A438 -> Xã Hoạt Giang | D41: =IF(LEFT(C41,6)="Phường","Phường","Xã") -> Xã | E41: ='Danh sách'!D438 -> 9 | F41: ='Danh sách'!E438 -> 45 | G41: =IF(E41=0,0,F41/E41) -> 5
B42: 26 | C42: ='Danh sách'!A448 -> Xã Lĩnh Toại | D42: =IF(LEFT(C42,6)="Phường","Phường","Xã") -> Xã | E42: ='Danh sách'!D448 -> 14 | F42: ='Danh sách'!E448 -> 42 | G42: =IF(E42=0,0,F42/E42) -> 3
B43: 27 | C43: ='Danh sách'!A463 -> Xã Nga Sơn | D43: =IF(LEFT(C43,6)="Phường","Phường","Xã") -> Xã | E43: ='Danh sách'!D463 -> 21 | F43: ='Danh sách'!E463 -> 168 | G43: =IF(E43=0,0,F43/E43) -> 8
B44: 28 | C44: ='Danh sách'!A485 -> Xã Nga Thắng | D44: =IF(LEFT(C44,6)="Phường","Phường","Xã") -> Xã | E44: ='Danh sách'!D485 -> 13 | F44: ='Danh sách'!E485 -> 67 | G44: =IF(E44=0,0,F44/E44) -> 5.1538462
B45: 29 | C45: ='Danh sách'!A499 -> Xã Hồ Vương | D45: =IF(LEFT(C45,6)="Phường","Phường","Xã") -> Xã | E45: ='Danh sách'!D499 -> 13 | F45: ='Danh sách'!E499 -> 78 | G45: =IF(E45=0,0,F45/E45) -> 6
B46: 30 | C46: ='Danh sách'!A513 -> Xã Tân Tiến | D46: =IF(LEFT(C46,6)="Phường","Phường","Xã") -> Xã | E46: ='Danh sách'!D513 -> 11 | F46: ='Danh sách'!E513 -> 61 | G46: =IF(E46=0,0,F46/E46) -> 5.5454545
B47: 31 | C47: ='Danh sách'!A525 -> Xã Nga An | D47: =IF(LEFT(C47,6)="Phường","Phường","Xã") -> Xã | E47: ='Danh sách'!D525 -> 12 | F47: ='Danh sách'!E525 -> 60 | G47: =IF(E47=0,0,F47/E47) -> 5
B48: 32 | C48: ='Danh sách'!A538 -> Xã Ba Đình | D48: =IF(LEFT(C48,6)="Phường","Phường","Xã") -> Xã | E48: ='Danh sách'!D538 -> 12 | F48: ='Danh sách'!E538 -> 60 | G48: =IF(E48=0,0,F48/E48) -> 5
B49: 33 | C49: ='Danh sách'!A551 -> Xã Triệu Lộc | D49: =IF(LEFT(C49,6)="Phường","Phường","Xã") -> Xã | E49: ='Danh sách'!D551 -> 12 | F49: ='Danh sách'!E551 -> 55 | G49: =IF(E49=0,0,F49/E49) -> 4.5833333
B50: 34 | C50: ='Danh sách'!A564 -> Xã Đông Thành | D50: =IF(LEFT(C50,6)="Phường","Phường","Xã") -> Xã | E50: ='Danh sách'!D564 -> 12 | F50: ='Danh sách'!E564 -> 65 | G50: =IF(E50=0,0,F50/E50) -> 5.4166667
B51: 35 | C51: ='Danh sách'!A577 -> Xã Hậu Lộc | D51: =IF(LEFT(C51,6)="Phường","Phường","Xã") -> Xã | E51: ='Danh sách'!D577 -> 14 | F51: ='Danh sách'!E577 -> 67 | G51: =IF(E51=0,0,F51/E51) -> 4.7857143
B52: 36 | C52: ='Danh sách'!A592 -> Xã Hoa Lộc | D52: =IF(LEFT(C52,6)="Phường","Phường","Xã") -> Xã | E52: ='Danh sách'!D592 -> 15 | F52: ='Danh sách'!E592 -> 110 | G52: =IF(E52=0,0,F52/E52) -> 7.3333333
B53: 37 | C53: ='Danh sách'!A608 -> Xã Vạn Lộc | D53: =IF(LEFT(C53,6)="Phường","Phường","Xã") -> Xã | E53: ='Danh sách'!D608 -> 20 | F53: ='Danh sách'!E608 -> 200 | G53: =IF(E53=0,0,F53/E53) -> 10
B54: 38 | C54: ='Danh sách'!A629 -> Xã Hoằng Hóa | D54: =IF(LEFT(C54,6)="Phường","Phường","Xã") -> Xã | E54: ='Danh sách'!D629 -> 23 | F54: ='Danh sách'!E629 -> 152 | G54: =IF(E54=0,0,F54/E54) -> 6.6086957
B55: 39 | C55: ='Danh sách'!A653 -> Xã Hoằng Tiến | D55: =IF(LEFT(C55,6)="Phường","Phường","Xã") -> Xã | E55: ='Danh sách'!D653 -> 12 | F55: ='Danh sách'!E653 -> 83 | G55: =IF(E55=0,0,F55/E55) -> 6.9166667
B56: 40 | C56: ='Danh sách'!A666 -> Xã Hoằng Thanh | D56: =IF(LEFT(C56,6)="Phường","Phường","Xã") -> Xã | E56: ='Danh sách'!D666 -> 13 | F56: ='Danh sách'!E666 -> 91 | G56: =IF(E56=0,0,F56/E56) -> 7
B57: 41 | C57: ='Danh sách'!A680 -> Xã Hoằng Lộc | D57: =IF(LEFT(C57,6)="Phường","Phường","Xã") -> Xã | E57: ='Danh sách'!D680 -> 17 | F57: ='Danh sách'!E680 -> 102 | G57: =IF(E57=0,0,F57/E57) -> 6
B58: 42 | C58: ='Danh sách'!A698 -> Xã Hoằng Châu | D58: =IF(LEFT(C58,6)="Phường","Phường","Xã") -> Xã | E58: ='Danh sách'!D698 -> 14 | F58: ='Danh sách'!E698 -> 70 | G58: =IF(E58=0,0,F58/E58) -> 5
B59: 43 | C59: ='Danh sách'!A713 -> Xã Hoằng Sơn | D59: =IF(LEFT(C59,6)="Phường","Phường","Xã") -> Xã | E59: ='Danh sách'!D713 -> 14 | F59: ='Danh sách'!E713 -> 70 | G59: =IF(E59=0,0,F59/E59) -> 5
B60: 44 | C60: ='Danh sách'!A728 -> Xã Hoằng Phú | D60: =IF(LEFT(C60,6)="Phường","Phường","Xã") -> Xã | E60: ='Danh sách'!D728 -> 10 | F60: ='Danh sách'!E728 -> 74 | G60: =IF(E60=0,0,F60/E60) -> 7.4
B61: 45 | C61: ='Danh sách'!A739 -> Xã Hoằng Giang | D61: =IF(LEFT(C61,6)="Phường","Phường","Xã") -> Xã | E61: ='Danh sách'!D739 -> 12 | F61: ='Danh sách'!E739 -> 155 | G61: =IF(E61=0,0,F61/E61) -> 12.916667
B62: 46 | C62: ='Danh sách'!A752 -> Xã Lưu Vệ | D62: =IF(LEFT(C62,6)="Phường","Phường","Xã") -> Xã | E62: ='Danh sách'!D752 -> 16 | F62: ='Danh sách'!E752 -> 159 | G62: =IF(E62=0,0,F62/E62) -> 9.9375
B63: 47 | C63: ='Danh sách'!A769 -> Xã Quảng Yên | D63: =IF(LEFT(C63,6)="Phường","Phường","Xã") -> Xã | E63: ='Danh sách'!D769 -> 13 | F63: ='Danh sách'!E769 -> 65 | G63: =IF(E63=0,0,F63/E63) -> 5
B64: 48 | C64: ='Danh sách'!A783 -> Xã Quảng Bình | D64: =IF(LEFT(C64,6)="Phường","Phường","Xã") -> Xã | E64: ='Danh sách'!D783 -> 15 | F64: ='Danh sách'!E783 -> 133 | G64: =IF(E64=0,0,F64/E64) -> 8.8666667
B65: 49 | C65: ='Danh sách'!A799 -> Xã Quảng Ngọc | D65: =IF(LEFT(C65,6)="Phường","Phường","Xã") -> Xã | E65: ='Danh sách'!D799 -> 16 | F65: ='Danh sách'!E799 -> 88 | G65: =IF(E65=0,0,F65/E65) -> 5.5
B66: 50 | C66: ='Danh sách'!A816 -> Xã Quảng Ninh | D66: =IF(LEFT(C66,6)="Phường","Phường","Xã") -> Xã | E66: ='Danh sách'!D816 -> 11 | F66: ='Danh sách'!E816 -> 98 | G66: =IF(E66=0,0,F66/E66) -> 8.9090909
B67: 51 | C67: ='Danh sách'!A828 -> Xã Tiên Trang | D67: =IF(LEFT(C67,6)="Phường","Phường","Xã") -> Xã | E67: ='Danh sách'!D828 -> 15 | F67: ='Danh sách'!E828 -> 75 | G67: =IF(E67=0,0,F67/E67) -> 5
B68: 52 | C68: ='Danh sách'!A844 -> Xã Quảng Chính | D68: =IF(LEFT(C68,6)="Phường","Phường","Xã") -> Xã | E68: ='Danh sách'!D844 -> 10 | F68: ='Danh sách'!E844 -> 119 | G68: =IF(E68=0,0,F68/E68) -> 11.9
B69: 53 | C69: ='Danh sách'!A855 -> Xã Nông Cống | D69: =IF(LEFT(C69,6)="Phường","Phường","Xã") -> Xã | E69: ='Danh sách'!D855 -> 19 | F69: ='Danh sách'!E855 -> 95 | G69: =IF(E69=0,0,F69/E69) -> 5
B70: 54 | C70: ='Danh sách'!A875 -> Xã Thắng Lợi | D70: =IF(LEFT(C70,6)="Phường","Phường","Xã") -> Xã | E70: ='Danh sách'!D875 -> 14 | F70: ='Danh sách'!E875 -> 70 | G70: =IF(E70=0,0,F70/E70) -> 5
B71: 55 | C71: ='Danh sách'!A890 -> Xã Trung Chính | D71: =IF(LEFT(C71,6)="Phường","Phường","Xã") -> Xã | E71: ='Danh sách'!D890 -> 15 | F71: ='Danh sách'!E890 -> 45 | G71: =IF(E71=0,0,F71/E71) -> 3
B72: 56 | C72: ='Danh sách'!A906 -> Xã Trường Văn | D72: =IF(LEFT(C72,6)="Phường","Phường","Xã") -> Xã | E72: ='Danh sách'!D906 -> 11 | F72: ='Danh sách'!E906 -> 55 | G72: =IF(E72=0,0,F72/E72) -> 5
B73: 57 | C73: ='Danh sách'!A918 -> Xã Thăng Bình | D73: =IF(LEFT(C73,6)="Phường","Phường","Xã") -> Xã | E73: ='Danh sách'!D918 -> 9 | F73: ='Danh sách'!E918 -> 52 | G73: =IF(E73=0,0,F73/E73) -> 5.7777778
B74: 58 | C74: ='Danh sách'!A928 -> Xã Tượng Lĩnh | D74: =IF(LEFT(C74,6)="Phường","Phường","Xã") -> Xã | E74: ='Danh sách'!D928 -> 10 | F74: ='Danh sách'!E928 -> 50 | G74: =IF(E74=0,0,F74/E74) -> 5
B75: 59 | C75: ='Danh sách'!A939 -> Xã Công Chính | D75: =IF(LEFT(C75,6)="Phường","Phường","Xã") -> Xã | E75: ='Danh sách'!D939 -> 13 | F75: ='Danh sách'!E939 -> 0 | G75: =IF(E75=0,0,F75/E75) -> 0
B76: 60 | C76: ='Danh sách'!A953 -> Xã Thiệu Hóa | D76: =IF(LEFT(C76,6)="Phường","Phường","Xã") -> Xã | E76: ='Danh sách'!D953 -> 20 | F76: ='Danh sách'!E953 -> 100 | G76: =IF(E76=0,0,F76/E76) -> 5
B77: 61 | C77: ='Danh sách'!A974 -> Xã Thiệu Quang | D77: =IF(LEFT(C77,6)="Phường","Phường","Xã") -> Xã | E77: ='Danh sách'!D974 -> 13 | F77: ='Danh sách'!E974 -> 77 | G77: =IF(E77=0,0,F77/E77) -> 5.9230769
B78: 62 | C78: ='Danh sách'!A988 -> Xã Thiệu Tiến | D78: =IF(LEFT(C78,6)="Phường","Phường","Xã") -> Xã | E78: ='Danh sách'!D988 -> 10 | F78: ='Danh sách'!E988 -> 47 | G78: =IF(E78=0,0,F78/E78) -> 4.7
B79: 63 | C79: ='Danh sách'!A999 -> Xã Thiệu Toán | D79: =IF(LEFT(C79,6)="Phường","Phường","Xã") -> Xã | E79: ='Danh sách'!D999 -> 12 | F79: ='Danh sách'!E999 -> 86 | G79: =IF(E79=0,0,F79/E79) -> 7.1666667
B80: 64 | C80: ='Danh sách'!A1012 -> Xã Thiệu Trung | D80: =IF(LEFT(C80,6)="Phường","Phường","Xã") -> Xã | E80: ='Danh sách'!D1012 -> 13 | F80: ='Danh sách'!E1012 -> 115 | G80: =IF(E80=0,0,F80/E80) -> 8.8461538
B81: 65 | C81: ='Danh sách'!A1026 -> Xã Yên Định | D81: =IF(LEFT(C81,6)="Phường","Phường","Xã") -> Xã | E81: ='Danh sách'!D1026 -> 12 | F81: ='Danh sách'!E1026 -> 103 | G81: =IF(E81=0,0,F81/E81) -> 8.5833333
B82: 66 | C82: ='Danh sách'!A1039 -> Xã Định Hòa | D82: =IF(LEFT(C82,6)="Phường","Phường","Xã") -> Xã | E82: ='Danh sách'!D1039 -> 9 | F82: ='Danh sách'!E1039 -> 45 | G82: =IF(E82=0,0,F82/E82) -> 5
B83: 67 | C83: ='Danh sách'!A1049 -> Xã Định Tân | D83: =IF(LEFT(C83,6)="Phường","Phường","Xã") -> Xã | E83: ='Danh sách'!D1049 -> 12 | F83: ='Danh sách'!E1049 -> 84 | G83: =IF(E83=0,0,F83/E83) -> 7
B84: 68 | C84: ='Danh sách'!A1062 -> Xã Yên Ninh | D84: =IF(LEFT(C84,6)="Phường","Phường","Xã") -> Xã | E84: ='Danh sách'!D1062 -> 9 | F84: ='Danh sách'!E1062 -> 114 | G84: =IF(E84=0,0,F84/E84) -> 12.666667
B85: 69 | C85: ='Danh sách'!A1072 -> Xã Yên Trường | D85: =IF(LEFT(C85,6)="Phường","Phường","Xã") -> Xã | E85: ='Danh sách'!D1072 -> 9 | F85: ='Danh sách'!E1072 -> 96 | G85: =IF(E85=0,0,F85/E85) -> 10.666667
B86: 70 | C86: ='Danh sách'!A1082 -> Xã Yên Phú | D86: =IF(LEFT(C86,6)="Phường","Phường","Xã") -> Xã | E86: ='Danh sách'!D1082 -> 7 | F86: ='Danh sách'!E1082 -> 56 | G86: =IF(E86=0,0,F86/E86) -> 8
B87: 71 | C87: ='Danh sách'!A1090 -> Xã Quý Lộc | D87: =IF(LEFT(C87,6)="Phường","Phường","Xã") -> Xã | E87: ='Danh sách'!D1090 -> 12 | F87: ='Danh sách'!E1090 -> 84 | G87: =IF(E87=0,0,F87/E87) -> 7
B88: 72 | C88: ='Danh sách'!A1103 -> Xã Thọ Xuân | D88: =IF(LEFT(C88,6)="Phường","Phường","Xã") -> Xã | E88: ='Danh sách'!D1103 -> 16 | F88: ='Danh sách'!E1103 -> 80 | G88: =IF(E88=0,0,F88/E88) -> 5
B89: 73 | C89: ='Danh sách'!A1120 -> Xã Thọ Long | D89: =IF(LEFT(C89,6)="Phường","Phường","Xã") -> Xã | E89: ='Danh sách'!D1120 -> 15 | F89: ='Danh sách'!E1120 -> 88 | G89: =IF(E89=0,0,F89/E89) -> 5.8666667
B90: 74 | C90: ='Danh sách'!A1136 -> Xã Xuân Hòa | D90: =IF(LEFT(C90,6)="Phường","Phường","Xã") -> Xã | E90: ='Danh sách'!D1136 -> 14 | F90: ='Danh sách'!E1136 -> 142 | G90: =IF(E90=0,0,F90/E90) -> 10.142857
B91: 75 | C91: ='Danh sách'!A1151 -> Xã Sao Vàng | D91: =IF(LEFT(C91,6)="Phường","Phường","Xã") -> Xã | E91: ='Danh sách'!D1151 -> 23 | F91: ='Danh sách'!E1151 -> 169 | G91: =IF(E91=0,0,F91/E91) -> 7.3478261
B92: 76 | C92: ='Danh sách'!A1175 -> Xã Lam Sơn | D92: =IF(LEFT(C92,6)="Phường","Phường","Xã") -> Xã | E92: ='Danh sách'!D1175 -> 14 | F92: ='Danh sách'!E1175 -> 102 | G92: =IF(E92=0,0,F92/E92) -> 7.2857143
B93: 77 | C93: ='Danh sách'!A1190 -> Xã Thọ Lập | D93: =IF(LEFT(C93,6)="Phường","Phường","Xã") -> Xã | E93: ='Danh sách'!D1190 -> 11 | F93: ='Danh sách'!E1190 -> 77 | G93: =IF(E93=0,0,F93/E93) -> 7
B94: 78 | C94: ='Danh sách'!A1202 -> Xã Xuân Tín | D94: =IF(LEFT(C94,6)="Phường","Phường","Xã") -> Xã | E94: ='Danh sách'!D1202 -> 12 | F94: ='Danh sách'!E1202 -> 60 | G94: =IF(E94=0,0,F94/E94) -> 5
B95: 79 | C95: ='Danh sách'!A1215 -> Xã Xuân Lập | D95: =IF(LEFT(C95,6)="Phường","Phường","Xã") -> Xã | E95: ='Danh sách'!D1215 -> 17 | F95: ='Danh sách'!E1215 -> 80 | G95: =IF(E95=0,0,F95/E95) -> 4.7058824
B96: 80 | C96: ='Danh sách'!A1233 -> Xã Vĩnh Lộc | D96: =IF(LEFT(C96,6)="Phường","Phường","Xã") -> Xã | E96: ='Danh sách'!D1233 -> 20 | F96: ='Danh sách'!E1233 -> 115 | G96: =IF(E96=0,0,F96/E96) -> 5.75
B97: 81 | C97: ='Danh sách'!A1254 -> Xã Tây Đô | D97: =IF(LEFT(C97,6)="Phường","Phường","Xã") -> Xã | E97: ='Danh sách'!D1254 -> 13 | F97: ='Danh sách'!E1254 -> 98 | G97: =IF(E97=0,0,F97/E97) -> 7.5384615
B98: 82 | C98: ='Danh sách'!A1268 -> Xã Biện Thượng | D98: =IF(LEFT(C98,6)="Phường","Phường","Xã") -> Xã | E98: ='Danh sách'!D1268 -> 15 | F98: ='Danh sách'!E1268 -> 75 | G98: =IF(E98=0,0,F98/E98) -> 5
B99: 83 | C99: ='Danh sách'!A1284 -> Xã Triệu Sơn | D99: =IF(LEFT(C99,6)="Phường","Phường","Xã") -> Xã | E99: ='Danh sách'!D1284 -> 23 | F99: ='Danh sách'!E1284 -> 121 | G99: =IF(E99=0,0,F99/E99) -> 5.2608696
B100: 84 | C100: ='Danh sách'!A1308 -> Xã An Nông | D100: =IF(LEFT(C100,6)="Phường","Phường","Xã") -> Xã | E100: ='Danh sách'!D1308 -> 15 | F100: ='Danh sách'!E1308 -> 79 | G100: =IF(E100=0,0,F100/E100) -> 5.2666667
B101: 85 | C101: ='Danh sách'!A1324 -> Xã Tân Ninh | D101: =IF(LEFT(C101,6)="Phường","Phường","Xã") -> Xã | E101: ='Danh sách'!D1324 -> 11 | F101: ='Danh sách'!E1324 -> 65 | G101: =IF(E101=0,0,F101/E101) -> 5.9090909
B102: 86 | C102: ='Danh sách'!A1336 -> Xã Đồng Tiến | D102: =IF(LEFT(C102,6)="Phường","Phường","Xã") -> Xã | E102: ='Danh sách'!D1336 -> 9 | F102: ='Danh sách'!E1336 -> 64 | G102: =IF(E102=0,0,F102/E102) -> 7.1111111
B103: 87 | C103: ='Danh sách'!A1346 -> Xã Thọ Ngọc | D103: =IF(LEFT(C103,6)="Phường","Phường","Xã") -> Xã | E103: ='Danh sách'!D1346 -> 11 | F103: ='Danh sách'!E1346 -> 46 | G103: =IF(E103=0,0,F103/E103) -> 4.1818182
...

Sheet Danh sách
A1: DANH SÁCH TỔ TRƯỞNG TỔ CÔNG NGHỆ SỐ CỘNG ĐỒNG
A2: Tại các thôn, bản, tổ dân phố mới sau sắp xếp của 166 xã, phường • Tháng 10/2026
A3: TỔNG CỘNG TOÀN TỈNH | D3: =COUNT(A5:A2103) -> 1933 | E3: =SUMPRODUCT(ISNUMBER(A5:A2103)*1,E5:E2103) -> 12259 | F3: thành viên (tính theo số liệu đã có)
A4: STT | B4: Mã | C4: Tên thôn, bản, tổ dân phố | D4: Họ và tên Tổ trưởng Tổ CNSCĐ | E4: Tổng số thành viên/Tổ | F4: Ghi chú
A5: Phường Hạc Thành | D5: =COUNT(A6:A70) -> 65 | E5: =SUM(E6:E70) -> 268
A6: 1 | B6: TDP | C6: Tổ dân phố Đông Sơn 1 | D6: Nguyễn Trọng Hải | E6: 3
A7: 2 | B7: TDP | C7: Tổ dân phố Đông Phát 2 | D7: Phạm Văn Tài | E7: 6
A8: 3 | B8: TDP | C8: Tổ dân phố Đông Phát 1 | D8: Lê Bá Chiến | E8: 5
A9: 4 | B9: TDP | C9: Tổ dân phố Quảng Xá 3 | D9: Nguyễn Văn Hải | E9: 3
A10: 5 | B10: TDP | C10: Tổ dân phố Trần Phú | D10: Dương Văn Xu | E10: 6
A11: 6 | B11: TDP | C11: Tổ dân phố Tây Sơn 4 | D11: Lê Bá Long | E11: 4
A12: 7 | B12: TDP | C12: Tổ dân phố Ái Sơn | D12: Lê Chí Sơn | E12: 3
A13: 8 | B13: TDP | C13: Tổ dân phố Sơn Vạn | D13: Nguyễn Doãn Thủy | E13: 3
A14: 9 | B14: TDP | C14: Tổ dân phố Xuân Minh | D14: Lê Trọng Úy | E14: 5
A15: 10 | B15: TDP | C15: Tổ dân phố Đồng Lễ | D15: Đỗ Văn Dũng | E15: 4
A16: 11 | B16: TDP | C16: Tổ dân phố Lai Thành | D16: Lê Văn Thính | E16: 3
A17: 12 | B17: TDP | C17: Tổ dân phố Xuân Mai | D17: Trịnh Văn Trung | E17: 3
... A70: 65 | B70: TDP | C70: Tổ dân phố Phan Bội Châu | D70: Vũ Đình Hồng | E70: 6
A71: Phường Quảng Phú | D71: =COUNT(A72:A94) -> 23 | E71: =SUM(E72:E94) -> 215
A72: 66 | B72: TDP | C72: Tổ dân phố Thành Yên | D72: Lê Văn Toàn | E72: 10
A73: 67 | B73: TDP | C73: Tổ dân phố Hưng Phúc | D73: Lê Thanh Hải | E73: 10
A74: 68 | B74: TDP | C74: Tổ dân phố Hưng Thọ | D74: Lưu Đình Hiệp | E74: 10
A75: 69 | B75: TDP | C75: Tổ dân phố Hưng Long | D75: Nguyễn Hữu Tửu | E75: 9
A76: 70 | B76: TDP | C76: Tổ dân phố Phú Xuân | D76: Lê Bá Phong | E76: 10
A77: 71 | B77: TDP | C77: Tổ dân phố Phú Viên | D77: Nguyễn Khắc Tâm | E77: 9
A78: 72 | B78: TDP | C78: Tổ dân phố Phú Thành | D78: Nguyễn Thị Thu | E78: 10
A79: 73 | B79: TDP | C79: Tổ dân phố Phú Trung | D79: Lê Trí Huy | E79: 9
A80: 74 | B80: TDP | C80: Tổ dân phố Thành Mai | D80: Hà Văn Vui | E80: 8
A81: 75 | B81: TDP | C81: Tổ dân phố Thành Công | D81: Phạm Tất Thắng | E81: 8
A82: 76 | B82: TDP | C82: Tổ dân phố Quảng Thành | D82: Nguyễn Khắc Oanh | E82: 8
A83: 77 | B83: TDP | C83: Tổ dân phố Thành Khang | D83: Nguyễn Văn Tài | E83: 9
... A94: 88 | B94: TDP | C94: Tổ dân phố Tiến Thọ | D94: Nguyễn Khắc Tâm | E94: 11
A95: Phường Đông Quang | D95: =COUNT(A96:A116) -> 21 | E95: =SUM(E96:E116) -> 147
A96: 89 | B96: TDP | C96: Tổ dân phố Cao Sơn | D96: Lê Duy Khánh | E96: 5
A97: 90 | B97: TDP | C97: Tổ dân phố Phố Nhồi | D97: Lê Văn Tùng | E97: 7
A98: 91 | B98: TDP | C98: Tổ dân phố An Hoạch | D98: Trịnh Văn Quý | E98: 7
A99: 92 | B99: TDP | C99: Tổ dân phố Đông Hưng | D99: Nguyễn Như Tùng | E99: 7
A100: 93 | B100: TDP | C100: Tổ dân phố An Hưng | D100: Mai Văn Huy | E100: 7
A101: 94 | B101: TDP | C101: Tổ dân phố Quảng Thắng | D101: Đào Ngọc Phương | E101: 8
A102: 95 | B102: TDP | C102: Tổ dân phố Vệ Yên | D102: Lê Thị Diệu Linh | E102: 7
A103: 96 | B103: TDP | C103: Tổ dân phố Phù Lưu | D103: Nguyễn Ngọc Toàn | E103: 7
A104: 97 | B104: TDP | C104: Tổ dân phố Yên Biên | D104: Nguyễn Duy Thuận | E104: 7
A105: 98 | B105: TDP | C105: Tổ dân phố Quang Vinh | D105: Nguyễn Thị Thu Thủy | E105: 7
A106: 99 | B106: TDP | C106: Tổ dân phố Đông Vinh | D106: Lê Duy Công | E106: 6
A107: 100 | B107: TDP | C107: Tổ dân phố Thịnh Trị | D107: Dương Thị Tính | E107: 8
... A116: 109 | B116: TDP | C116: Tổ dân phố Đông Yên | D116: Lê Xuân Thanh | E116: 7
A117: Phường Đông Sơn | D117: =COUNT(A118:A144) -> 27 | E117: =SUM(E118:E144) -> 301
A118: 110 | B118: TDP | C118: Tổ dân phố Hàm Hạ | D118: Phạm văn Sinh | E118: 10
A119: 111 | B119: TDP | C119: Tổ dân phố Toàn Tân | D119: Lê Văn Kiên | E119: 10
A120: 112 | B120: TDP | C120: Tổ dân phố Thọ Phật | D120: Nguyễn Quý Hoa | E120: 9
A121: 113 | B121: TDP | C121: Tổ dân phố Đông Hoàng | D121: Trương Văn Tuấn | E121: 10
A122: 114 | B122: TDP | C122: Tổ dân phố Cẩm Tú | D122: Lê Như Hiếu | E122: 12
A123: 115 | B123: TDP | C123: Tổ dân phố Vân Đô | D123: Lê Thị Hà | E123: 14
A124: 116 | B124: TDP | C124: Tổ dân phố Đông Phổ | D124: Nguyễn Thị Hương | E124: 12
A125: 117 | B125: TDP | C125: Tổ dân phố Đông Minh | D125: Lê Trọng Cường | E125: 12
A126: 118 | B126: TDP | C126: Tổ dân phố Hữu Bộc | D126: Lê Đăng Vân | E126: 9
A127: 119 | B127: TDP | C127: Tổ dân phố Vạn Xuân | D127: Nguyễn Thanh Hóa | E127: 9
A128: 120 | B128: TDP | C128: Tổ dân phố Đông Ninh | D128: Nguyễn Duy Tú | E128: 9
A129: 121 | B129: TDP | C129: Tổ dân phố Đông Thành | D129: Nguyễn Đăng Hoàng | E129: 13
... A144: 136 | B144: TDP | C144: Tổ dân phố Đông Tân | D144: Lê Thị Ái | E144: 12
A145: Phường Đông Tiến | D145: =COUNT(A146:A170) -> 25 | E145: =SUM(E146:E170) -> 150
A146: 137 | B146: TDP | C146: Tổ dân phố Trường Sơn | D146: Nguyễn Duy Dũng | E146: 6
A147: 138 | B147: TDP | C147: Tổ dân phố Vân Nhưng | D147: Đàm Quang Trang | E147: 6
A148: 139 | B148: TDP | C148: Tổ dân phố Mân Trung | D148: Nguyễn Đình Định | E148: 6
A149: 140 | B149: TDP | C149: Tổ dân phố Bản Nguyên | D149: Phạm Thị Dung | E149: 6
A150: 141 | B150: TDP | C150: Tổ dân phố Tân Hồ | D150: Lê Đăng Tú | E150: 6
A151: 142 | B151: TDP | C151: Tổ dân phố Phúc Triền | D151: Thiều Sỹ Ba | E151: 6
A152: 143 | B152: TDP | C152: Tổ dân phố Ngọc Bôi | D152: Lê Hữu Dục | E152: 6
A153: 144 | B153: TDP | C153: Tổ dân phố Ngọc Tích | D153: Nguyễn Văn Hưng | E153: 6
A154: 145 | B154: TDP | C154: Tổ dân phố Triệu Xá | D154: Lê Thị Quỳnh Anh | E154: 6
A155: 146 | B155: TDP | C155: Tổ dân phố Đông Tiến | D155: Thiều Thị Thường | E155: 6
A156: 147 | B156: TDP | C156: Tổ dân phố Kim Khởi | D156: Trần Thị Tuyết | E156: 6
A157: 148 | B157: TDP | C157: Tổ dân phố Vân Tập | D157: Phan Văn Bình | E157: 6
... A170: 161 | B170: TDP | C170: Tổ dân phố Dinh Xá | D170: Lê Công Bình | E170: 6
A171: Phường Hàm Rồng | D171: =COUNT(A172:A192) -> 21 | E171: =SUM(E172:E192) -> 110
A172: 162 | B172: TDP | C172: Làng Đông Sơn | D172: Lương Trọng Nam | E172: 5
A173: 163 | B173: TDP | C173: Tổ dân phố Đại Khối | D173: Nguyễn Đức Hiệu | E173: 5
A174: 164 | B174: TDP | C174: Tổ dân phố Định Hòa | D174: Lại Văn Tú | E174: 5
A175: 165 | B175: TDP | C175: Tổ dân phố Hạc Oa | D175: Lê Văn Bình | E175: 5
A176: 166 | B176: TDP | C176: Tổ dân phố Đình Hương | D176: Lê Đình Giáp | E176: 5
A177: 167 | B177: TDP | C177: Tổ dân phố Thiệu Dương 1 | D177: Nguyễn Trung Thành | E177: 5
A178: 168 | B178: TDP | C178: Tổ dân phố Thiệu Dương 2 | D178: Dương Khắc Hiếu | E178: 5
A179: 169 | B179: TDP | C179: Tổ dân phố Thiệu Dương 3 | D179: Dương Khắc Thanh | E179: 5
A180: 170 | B180: TDP | C180: Tổ dân phố Thiệu Dương 4 | D180: Lê Văn Dũng | E180: 6
A181: 171 | B181: TDP | C181: Tổ dân phố Thiệu Dương 5 | D181: Dương Đình Kiên | E181: 5
A182: 172 | B182: TDP | C182: Tổ dân phố Hàm Long | D182: Phạm Đức Đức | E182: 5
A183: 173 | B183: TDP | C183: Tổ dân phố Long Quang | D183: Đặng Quang Thảo | E183: 5
... A192: 182 | B192: TDP | C192: Tổ dân phố Đoàn Kết | D192: Đàm Trung Kiên | E192: 6
A193: Phường Nguyệt Viên | D193: =COUNT(A194:A208) -> 15 | E193: =SUM(E194:E208) -> 75
A194: 183 | B194: TDP | C194: Tổ dân phố Yên Vực | D194: Nguyễn Huy Minh | E194: 5
A195: 184 | B195: TDP | C195: Tổ dân phố Đồng Tiến | D195: Trương Thị An | E195: 5
A196: 185 | B196: TDP | C196: Tổ dân phố Hạnh Phúc | D196: Nguyễn Văn Tiến | E196: 5
A197: 186 | B197: TDP | C197: Tổ dân phố Sơn Hà | D197: Lê Văn Toàn | E197: 5
A198: 187 | B198: TDP | C198: Tổ dân phố Nguyệt Viên | D198: Lê Văn Toàn | E198: 5
A199: 188 | B199: TDP | C199: Tổ dân phố Vĩnh Trị | D199: Lê Thị Mai | E199: 5
A200: 189 | B200: TDP | C200: Tổ dân phố Hoằng Quang | D200: Nguyễn Đình Nam | E200: 5
A201: 190 | B201: TDP | C201: Tổ dân phố Hoằng Anh | D201: Lê Xuân Sơn | E201: 5
A202: 191 | B202: TDP | C202: Tổ dân phố Quan Nội | D202: Lê Quang Thành | E202: 5
A203: 192 | B203: TDP | C203: Tổ dân phố Hoằng Long | D203: Lê Khắc Viễn | E203: 5
A204: 193 | B204: TDP | C204: Tổ dân phố Từ Minh | D204: Lê Công Thoát | E204: 5
...

Sheet Ghi chú rà soát
A1: GHI CHÚ RÀ SOÁT DỮ LIỆU
A2: Những điểm cần bổ sung, xác nhận và những chỉnh sửa đã thực hiện khi trình bày lại file
A4: STT | B4: Nhóm | C4: Xã, phường | D4: Thôn, bản, TDP | E4: Nội dung | F4: Vị trí
A5: 1 | B5: Cần bổ sung | C5: Xã Triệu Lộc | D5: Thôn Phú Điền | E5: Thiếu họ tên Tổ trưởng và số thành viên. | F5: Dòng 552
A6: 2 | B6: Cần bổ sung | C6: Xã Công Chính | D6: Thôn Đạo Đức | E6: Có Tổ trưởng (Lê Văn Vương) nhưng thiếu số thành viên. | F6: Dòng 940
A7: 3 | B7: Cần bổ sung | C7: Xã Công Chính | D7: Thôn Lộc Tuy | E7: Có Tổ trưởng (Nguyễn Văn Tĩnh) nhưng thiếu số thành viên. | F7: Dòng 941
A8: 4 | B8: Cần bổ sung | C8: Xã Công Chính | D8: Thôn Phú Sơn | E8: Có Tổ trưởng (Phạm Văn Cư) nhưng thiếu số thành viên. | F8: Dòng 942
A9: 5 | B9: Cần bổ sung | C9: Xã Công Chính | D9: Thôn Phú Thành | E9: Có Tổ trưởng (Lê Huy Hoàng) nhưng thiếu số thành viên. | F9: Dòng 943
A10: 6 | B10: Cần bổ sung | C10: Xã Công Chính | D10: Thôn Tân Kỳ | E10: Có Tổ trưởng (Trần Ngọc Hà) nhưng thiếu số thành viên. | F10: Dòng 944
A11: 7 | B11: Cần bổ sung | C11: Xã Công Chính | D11: Thôn Tân Luật | E11: Có Tổ trưởng (Hoàng Văn Thiềm) nhưng thiếu số thành viên. | F11: Dòng 945
A12: 8 | B12: Cần bổ sung | C12: Xã Công Chính | D12: Thôn Tam Hòa | E12: Có Tổ trưởng (Nguyễn Quốc Thoại) nhưng thiếu số thành viên. | F12: Dòng 946
A13: 9 | B13: Cần bổ sung | C13: Xã Công Chính | D13: Thôn Thái Yên | E13: Có Tổ trưởng (Nguyễn Chí Thanh) nhưng thiếu số thành viên. | F13: Dòng 947
A14: 10 | B14: Cần bổ sung | C14: Xã Công Chính | D14: Thôn Yên Nẫm | E14: Có Tổ trưởng (Lương Thị Loan) nhưng thiếu số thành viên. | F14: Dòng 948
A15: 11 | B15: Cần bổ sung | C15: Xã Công Chính | D15: Thôn Trung Tâm | E15: Có Tổ trưởng (Bùi Thị Lý) nhưng thiếu số thành viên. | F15: Dòng 949
A16: 12 | B16: Cần bổ sung | C16: Xã Công Chính | D16: Thôn Yên Bình | E16: Có Tổ trưởng (Đinh Xuân Dùng) nhưng thiếu số thành viên. | F16: Dòng 950
... A34: 30 | B34: Đã chỉnh | C34: Xã Cẩm Thạch | D34: Thôn Thạch Tiến | E34: Tên gốc "ThônThạch Tiến" bị dính chữ – đã tách thành "Thôn Thạch Tiến". | F34: Dòng 1787
A35: 31 | B35: Đã chỉnh | C35: (toàn file) | E35: Đánh lại STT liên tục 1–1.933 cho các thôn, bản, tổ dân phố (bỏ qua dòng tên xã, phường); xóa khoảng trắng thừa; sửa lỗi chính tả tiêu đề ("său" → "sau"); xóa 3 sheet trống.
